BEGIN:VCALENDAR
VERSION:2.0
PRODID:-//Alabama Master Gardeners Association, Inc - ECPv6.15.20//NONSGML v1.0//EN
CALSCALE:GREGORIAN
METHOD:PUBLISH
X-WR-CALNAME:Alabama Master Gardeners Association, Inc
X-ORIGINAL-URL:https://alabamamga.org
X-WR-CALDESC:Events for Alabama Master Gardeners Association, Inc
REFRESH-INTERVAL;VALUE=DURATION:PT1H
X-Robots-Tag:noindex
X-PUBLISHED-TTL:PT1H
BEGIN:VTIMEZONE
TZID:America/Chicago
BEGIN:DAYLIGHT
TZOFFSETFROM:-0600
TZOFFSETTO:-0500
TZNAME:CDT
DTSTART:20230312T080000
END:DAYLIGHT
BEGIN:STANDARD
TZOFFSETFROM:-0500
TZOFFSETTO:-0600
TZNAME:CST
DTSTART:20231105T070000
END:STANDARD
BEGIN:DAYLIGHT
TZOFFSETFROM:-0600
TZOFFSETTO:-0500
TZNAME:CDT
DTSTART:20240310T080000
END:DAYLIGHT
BEGIN:STANDARD
TZOFFSETFROM:-0500
TZOFFSETTO:-0600
TZNAME:CST
DTSTART:20241103T070000
END:STANDARD
BEGIN:DAYLIGHT
TZOFFSETFROM:-0600
TZOFFSETTO:-0500
TZNAME:CDT
DTSTART:20250309T080000
END:DAYLIGHT
BEGIN:STANDARD
TZOFFSETFROM:-0500
TZOFFSETTO:-0600
TZNAME:CST
DTSTART:20251102T070000
END:STANDARD
END:VTIMEZONE
BEGIN:VEVENT
DTSTART;TZID=America/Chicago:20240301T120000
DTEND;TZID=America/Chicago:20240301T140000
DTSTAMP:20260423T034502
CREATED:20240218T131842Z
LAST-MODIFIED:20240218T131842Z
UID:5881-1709294400-1709301600@alabamamga.org
SUMMARY:Claybank Master Gardeners Lunch & Learn: Rain Barrels with Janet Shinaberry
DESCRIPTION:Claybank Master Gardeners’ Lunch & Learn: Rain Barrels with Janet Shinaberry will be held at the Ozark Dale County Library\, Ozark\, Alabama on May 1\, 2024 at noon. Bring your lunch and learn with us!
URL:https://alabamamga.org/event/claybank-master-gardeners-lunch-learn-rain-barrels-with-janet-shinaberry/
LOCATION:Ozark Dale County Library\, 296 North Union Ave\, Ozark\, AL\, 36360\, United States
CATEGORIES:events
ATTACH;FMTTYPE=application/pdf:https://alabamamga.org/wp-content/uploads/2024/02/ClayBankPlantSale2024.pdf
END:VEVENT
END:VCALENDAR