BEGIN:VCALENDAR
VERSION:2.0
PRODID:-//Alabama Master Gardeners Association, Inc - ECPv6.15.20//NONSGML v1.0//EN
CALSCALE:GREGORIAN
METHOD:PUBLISH
X-WR-CALNAME:Alabama Master Gardeners Association, Inc
X-ORIGINAL-URL:https://alabamamga.org
X-WR-CALDESC:Events for Alabama Master Gardeners Association, Inc
REFRESH-INTERVAL;VALUE=DURATION:PT1H
X-Robots-Tag:noindex
X-PUBLISHED-TTL:PT1H
BEGIN:VTIMEZONE
TZID:America/Chicago
BEGIN:DAYLIGHT
TZOFFSETFROM:-0600
TZOFFSETTO:-0500
TZNAME:CDT
DTSTART:20220313T080000
END:DAYLIGHT
BEGIN:STANDARD
TZOFFSETFROM:-0500
TZOFFSETTO:-0600
TZNAME:CST
DTSTART:20221106T070000
END:STANDARD
BEGIN:DAYLIGHT
TZOFFSETFROM:-0600
TZOFFSETTO:-0500
TZNAME:CDT
DTSTART:20230312T080000
END:DAYLIGHT
BEGIN:STANDARD
TZOFFSETFROM:-0500
TZOFFSETTO:-0600
TZNAME:CST
DTSTART:20231105T070000
END:STANDARD
BEGIN:DAYLIGHT
TZOFFSETFROM:-0600
TZOFFSETTO:-0500
TZNAME:CDT
DTSTART:20240310T080000
END:DAYLIGHT
BEGIN:STANDARD
TZOFFSETFROM:-0500
TZOFFSETTO:-0600
TZNAME:CST
DTSTART:20241103T070000
END:STANDARD
END:VTIMEZONE
BEGIN:VEVENT
DTSTART;VALUE=DATE:20230401
DTEND;VALUE=DATE:20230402
DTSTAMP:20260424T223013
CREATED:20221215T153609Z
LAST-MODIFIED:20221215T153609Z
UID:5218-1680307200-1680393599@alabamamga.org
SUMMARY:Lee County Native Azalea Sale
DESCRIPTION:The Lee County Master Gardeners Association will hold their Native Azalea Sale beginning at 8 am on April 1\, 2023 and will continue until all plants are sold. The sale will be held on the Southeast corner of Glenn and E. University Avenue in Auburn\, Alabama. For more information\, email Will Shinn\, lcmgvicepresident@gmail.com.
URL:https://alabamamga.org/event/lee-county-mga-native-azalea-sale/
LOCATION:Glenn and E University\, Auburn\, E University Dr and E Glenn Ave\, Auburn\, AL\, 36830\, United States
ORGANIZER;CN="Will Shinn":MAILTO:mailto:lcmgvicepresident@gmail.com
END:VEVENT
END:VCALENDAR