BEGIN:VCALENDAR
VERSION:2.0
PRODID:-//Alabama Master Gardeners Association, Inc - ECPv6.15.20//NONSGML v1.0//EN
CALSCALE:GREGORIAN
METHOD:PUBLISH
X-WR-CALNAME:Alabama Master Gardeners Association, Inc
X-ORIGINAL-URL:https://alabamamga.org
X-WR-CALDESC:Events for Alabama Master Gardeners Association, Inc
REFRESH-INTERVAL;VALUE=DURATION:PT1H
X-Robots-Tag:noindex
X-PUBLISHED-TTL:PT1H
BEGIN:VTIMEZONE
TZID:America/Chicago
BEGIN:DAYLIGHT
TZOFFSETFROM:-0600
TZOFFSETTO:-0500
TZNAME:CDT
DTSTART:20230312T080000
END:DAYLIGHT
BEGIN:STANDARD
TZOFFSETFROM:-0500
TZOFFSETTO:-0600
TZNAME:CST
DTSTART:20231105T070000
END:STANDARD
BEGIN:DAYLIGHT
TZOFFSETFROM:-0600
TZOFFSETTO:-0500
TZNAME:CDT
DTSTART:20240310T080000
END:DAYLIGHT
BEGIN:STANDARD
TZOFFSETFROM:-0500
TZOFFSETTO:-0600
TZNAME:CST
DTSTART:20241103T070000
END:STANDARD
BEGIN:DAYLIGHT
TZOFFSETFROM:-0600
TZOFFSETTO:-0500
TZNAME:CDT
DTSTART:20250309T080000
END:DAYLIGHT
BEGIN:STANDARD
TZOFFSETFROM:-0500
TZOFFSETTO:-0600
TZNAME:CST
DTSTART:20251102T070000
END:STANDARD
END:VTIMEZONE
BEGIN:VEVENT
DTSTART;TZID=America/Chicago:20240323T090000
DTEND;TZID=America/Chicago:20240323T140000
DTSTAMP:20260421T074122
CREATED:20240315T144400Z
LAST-MODIFIED:20240315T151322Z
UID:6051-1711184400-1711202400@alabamamga.org
SUMMARY:Mobile County Master Gardeners Spring Festival and Plant Sale
DESCRIPTION:Mobile County Master Gardeners will host their Spring Festival and Plant Sale at Mobile County Extension: Jon Archer Center in Mobile\, Alabama on Saturday\, March 23\, 2024 from 9am to 2pm. There will be lots of container vegetable plants\, planting demonstrations and speakers\, tours of our Dream Garden\, vendors and food trucks. Free and open to the public. Veggies include:
URL:https://alabamamga.org/event/mobile-county-master-gardeners-spring-festival-and-plant-sale/
LOCATION:Jon Archer Agricultural Center\, 1070 Schillinger Road North\, Mobile\, AL\, 36608\, United States
CATEGORIES:plant sale
ATTACH;FMTTYPE=application/pdf:https://alabamamga.org/wp-content/uploads/2024/03/Spring-Festival-2024-flyer.pdf
END:VEVENT
END:VCALENDAR