BEGIN:VCALENDAR
VERSION:2.0
PRODID:-//Alabama Master Gardeners Association, Inc - ECPv6.15.20//NONSGML v1.0//EN
CALSCALE:GREGORIAN
METHOD:PUBLISH
X-WR-CALNAME:Alabama Master Gardeners Association, Inc
X-ORIGINAL-URL:https://alabamamga.org
X-WR-CALDESC:Events for Alabama Master Gardeners Association, Inc
REFRESH-INTERVAL;VALUE=DURATION:PT1H
X-Robots-Tag:noindex
X-PUBLISHED-TTL:PT1H
BEGIN:VTIMEZONE
TZID:America/Chicago
BEGIN:DAYLIGHT
TZOFFSETFROM:-0600
TZOFFSETTO:-0500
TZNAME:CDT
DTSTART:20230312T080000
END:DAYLIGHT
BEGIN:STANDARD
TZOFFSETFROM:-0500
TZOFFSETTO:-0600
TZNAME:CST
DTSTART:20231105T070000
END:STANDARD
BEGIN:DAYLIGHT
TZOFFSETFROM:-0600
TZOFFSETTO:-0500
TZNAME:CDT
DTSTART:20240310T080000
END:DAYLIGHT
BEGIN:STANDARD
TZOFFSETFROM:-0500
TZOFFSETTO:-0600
TZNAME:CST
DTSTART:20241103T070000
END:STANDARD
BEGIN:DAYLIGHT
TZOFFSETFROM:-0600
TZOFFSETTO:-0500
TZNAME:CDT
DTSTART:20250309T080000
END:DAYLIGHT
BEGIN:STANDARD
TZOFFSETFROM:-0500
TZOFFSETTO:-0600
TZNAME:CST
DTSTART:20251102T070000
END:STANDARD
END:VTIMEZONE
BEGIN:VEVENT
DTSTART;TZID=America/Chicago:20240925T120000
DTEND;TZID=America/Chicago:20240925T130000
DTSTAMP:20260419T194009
CREATED:20240512T140737Z
LAST-MODIFIED:20240512T140737Z
UID:6203-1727265600-1727269200@alabamamga.org
SUMMARY:Calhoun County Master Gardeners Lunch & Learn
DESCRIPTION:Calhoun County Master Gardeners will host a Lunch and Learn on September 25\, 2024 from noon to one at Cane Creek Gardens\, Ft McClellan\, Alabama. Brian Shuler\, will present “Sylacauga Marble Quarry.” \nLunch and Learn Programs are free programs on gardening related topics\, open to the community and sponsored by Calhoun County Master Gardeners and the Calhoun County Commission. The programs are presented on the 4th Wednesday of each month April-September from noon to 1pm. Bring your lunch and join us!
URL:https://alabamamga.org/event/calhoun-county-master-gardeners-lunch-learn-5/
LOCATION:Cane Creek Community Gardens\, 77 Justice Ave\, Anniston\, 36205\, United States
CATEGORIES:Lunch and Learn
ATTACH;FMTTYPE=image/png:https://alabamamga.org/wp-content/uploads/2024/05/2024CalhounLLSeptember.png
END:VEVENT
END:VCALENDAR