BEGIN:VCALENDAR
VERSION:2.0
PRODID:-//Alabama Master Gardeners Association, Inc - ECPv6.15.20//NONSGML v1.0//EN
CALSCALE:GREGORIAN
METHOD:PUBLISH
X-ORIGINAL-URL:https://alabamamga.org
X-WR-CALDESC:Events for Alabama Master Gardeners Association, Inc
REFRESH-INTERVAL;VALUE=DURATION:PT1H
X-Robots-Tag:noindex
X-PUBLISHED-TTL:PT1H
BEGIN:VTIMEZONE
TZID:America/Chicago
BEGIN:DAYLIGHT
TZOFFSETFROM:-0600
TZOFFSETTO:-0500
TZNAME:CDT
DTSTART:20230312T080000
END:DAYLIGHT
BEGIN:STANDARD
TZOFFSETFROM:-0500
TZOFFSETTO:-0600
TZNAME:CST
DTSTART:20231105T070000
END:STANDARD
BEGIN:DAYLIGHT
TZOFFSETFROM:-0600
TZOFFSETTO:-0500
TZNAME:CDT
DTSTART:20240310T080000
END:DAYLIGHT
BEGIN:STANDARD
TZOFFSETFROM:-0500
TZOFFSETTO:-0600
TZNAME:CST
DTSTART:20241103T070000
END:STANDARD
BEGIN:DAYLIGHT
TZOFFSETFROM:-0600
TZOFFSETTO:-0500
TZNAME:CDT
DTSTART:20250309T080000
END:DAYLIGHT
BEGIN:STANDARD
TZOFFSETFROM:-0500
TZOFFSETTO:-0600
TZNAME:CST
DTSTART:20251102T070000
END:STANDARD
END:VTIMEZONE
BEGIN:VEVENT
DTSTART;TZID=America/Chicago:20240321T090000
DTEND;TZID=America/Chicago:20240321T153000
DTSTAMP:20260420T223830
CREATED:20240318T125459Z
LAST-MODIFIED:20240318T130045Z
UID:6061-1711011600-1711035000@alabamamga.org
SUMMARY:6th Annual Spring Garden Symposium "Planting For All Seasons"
DESCRIPTION:The 6th Annual Spring Garden Symposium “Planting For All Seasons” will be held on March 21\, 2024 from 9-3:30 at the Longleaf Event Center\, Longleaf Botanical Gardens\, Anniston\, Alabama.
URL:https://alabamamga.org/event/6th-annual-spring-garden-symposium-planting-for-all-seasons/
LOCATION:Longleaf Event Center\, 920 Museum Dr\, Anniston\, AL\, 36206\, United States
CATEGORIES:events
ATTACH;FMTTYPE=application/pdf:https://alabamamga.org/wp-content/uploads/2024/03/spring-garden-symposium-2024.pdf
END:VEVENT
END:VCALENDAR