BEGIN:VCALENDAR
VERSION:2.0
PRODID:-//Alabama Master Gardeners Association, Inc - ECPv6.15.20//NONSGML v1.0//EN
CALSCALE:GREGORIAN
METHOD:PUBLISH
X-WR-CALNAME:Alabama Master Gardeners Association, Inc
X-ORIGINAL-URL:https://alabamamga.org
X-WR-CALDESC:Events for Alabama Master Gardeners Association, Inc
REFRESH-INTERVAL;VALUE=DURATION:PT1H
X-Robots-Tag:noindex
X-PUBLISHED-TTL:PT1H
BEGIN:VTIMEZONE
TZID:America/Chicago
BEGIN:DAYLIGHT
TZOFFSETFROM:-0600
TZOFFSETTO:-0500
TZNAME:CDT
DTSTART:20230312T080000
END:DAYLIGHT
BEGIN:STANDARD
TZOFFSETFROM:-0500
TZOFFSETTO:-0600
TZNAME:CST
DTSTART:20231105T070000
END:STANDARD
BEGIN:DAYLIGHT
TZOFFSETFROM:-0600
TZOFFSETTO:-0500
TZNAME:CDT
DTSTART:20240310T080000
END:DAYLIGHT
BEGIN:STANDARD
TZOFFSETFROM:-0500
TZOFFSETTO:-0600
TZNAME:CST
DTSTART:20241103T070000
END:STANDARD
BEGIN:DAYLIGHT
TZOFFSETFROM:-0600
TZOFFSETTO:-0500
TZNAME:CDT
DTSTART:20250309T080000
END:DAYLIGHT
BEGIN:STANDARD
TZOFFSETFROM:-0500
TZOFFSETTO:-0600
TZNAME:CST
DTSTART:20251102T070000
END:STANDARD
END:VTIMEZONE
BEGIN:VEVENT
DTSTART;TZID=America/Chicago:20240921T100000
DTEND;TZID=America/Chicago:20240921T120000
DTSTAMP:20260420T013835
CREATED:20240830T120255Z
LAST-MODIFIED:20240830T120255Z
UID:6454-1726912800-1726920000@alabamamga.org
SUMMARY:Limestone County Master Gardeners: Saturday Workshops
DESCRIPTION:Limestone County Master Gardeners will host a Saturday Workshop on September 21\, 2024 at 10 am at the Limestone County Extension Office\, 1109 W. Market St.\, Athens. \n\n“Bring Birds Into Your Garden” will be presented by Herb Lewis. \n\n\n\nLearn the benefits of gardening for birds. Some of the techniques for developing a backyard wildlife habitat to attract a wide variety of birds are included along with personal photographs of the birds in the garden environment. \nAll workshops are free and open to the public.
URL:https://alabamamga.org/event/limestone-county-master-gardeners-saturday-workshops-3/
LOCATION:Limestone County Extension Office\, 1109 W. Market St.\, Athens\, AL\, 35611\, United States
CATEGORIES:Local Workshop
ATTACH;FMTTYPE=image/png:https://alabamamga.org/wp-content/uploads/2024/06/2024FlyerLimestoneWorkshops.png
END:VEVENT
END:VCALENDAR