BEGIN:VCALENDAR
VERSION:2.0
PRODID:-//Alabama Master Gardeners Association, Inc - ECPv6.15.20//NONSGML v1.0//EN
CALSCALE:GREGORIAN
METHOD:PUBLISH
X-WR-CALNAME:Alabama Master Gardeners Association, Inc
X-ORIGINAL-URL:https://alabamamga.org
X-WR-CALDESC:Events for Alabama Master Gardeners Association, Inc
REFRESH-INTERVAL;VALUE=DURATION:PT1H
X-Robots-Tag:noindex
X-PUBLISHED-TTL:PT1H
BEGIN:VTIMEZONE
TZID:America/Chicago
BEGIN:DAYLIGHT
TZOFFSETFROM:-0600
TZOFFSETTO:-0500
TZNAME:CDT
DTSTART:20230312T080000
END:DAYLIGHT
BEGIN:STANDARD
TZOFFSETFROM:-0500
TZOFFSETTO:-0600
TZNAME:CST
DTSTART:20231105T070000
END:STANDARD
BEGIN:DAYLIGHT
TZOFFSETFROM:-0600
TZOFFSETTO:-0500
TZNAME:CDT
DTSTART:20240310T080000
END:DAYLIGHT
BEGIN:STANDARD
TZOFFSETFROM:-0500
TZOFFSETTO:-0600
TZNAME:CST
DTSTART:20241103T070000
END:STANDARD
BEGIN:DAYLIGHT
TZOFFSETFROM:-0600
TZOFFSETTO:-0500
TZNAME:CDT
DTSTART:20250309T080000
END:DAYLIGHT
BEGIN:STANDARD
TZOFFSETFROM:-0500
TZOFFSETTO:-0600
TZNAME:CST
DTSTART:20251102T070000
END:STANDARD
END:VTIMEZONE
BEGIN:VEVENT
DTSTART;TZID=America/Chicago:20240910T110000
DTEND;TZID=America/Chicago:20240910T120000
DTSTAMP:20260420T013855
CREATED:20240830T121307Z
LAST-MODIFIED:20240830T121416Z
UID:6458-1725966000-1725969600@alabamamga.org
SUMMARY:Limestone County Master Gardeners: Gettin' Dirty at the Library
DESCRIPTION:Join Limestone County Master Gardeners for Gettin’ Dirty at the Library on September 10\, 2024 from 11-noon at the Athens-Limestone Public Library\, 603 Jefferson Street. Plant Curator Toby Gray will present “The Value of Oaks.”Brought to you by the Huntsville Botanical Gardens. \nGettin’ Dirty at the Library is free and open to the public.
URL:https://alabamamga.org/event/limestone-county-master-gardeners-gettin-dirty-at-the-library-3/
LOCATION:Athens-Limestone Public Library\, 603 S Jefferson St.\, Athens\, AL\, 35611\, United States
CATEGORIES:Local Talks
ATTACH;FMTTYPE=image/jpeg:https://alabamamga.org/wp-content/uploads/2024/08/2024FlyerLimestoneLibrarySeptember.jpg
END:VEVENT
END:VCALENDAR