BEGIN:VCALENDAR
VERSION:2.0
PRODID:-//Alabama Master Gardeners Association, Inc - ECPv6.15.20//NONSGML v1.0//EN
CALSCALE:GREGORIAN
METHOD:PUBLISH
X-WR-CALNAME:Alabama Master Gardeners Association, Inc
X-ORIGINAL-URL:https://alabamamga.org
X-WR-CALDESC:Events for Alabama Master Gardeners Association, Inc
REFRESH-INTERVAL;VALUE=DURATION:PT1H
X-Robots-Tag:noindex
X-PUBLISHED-TTL:PT1H
BEGIN:VTIMEZONE
TZID:America/Chicago
BEGIN:DAYLIGHT
TZOFFSETFROM:-0600
TZOFFSETTO:-0500
TZNAME:CDT
DTSTART:20230312T080000
END:DAYLIGHT
BEGIN:STANDARD
TZOFFSETFROM:-0500
TZOFFSETTO:-0600
TZNAME:CST
DTSTART:20231105T070000
END:STANDARD
BEGIN:DAYLIGHT
TZOFFSETFROM:-0600
TZOFFSETTO:-0500
TZNAME:CDT
DTSTART:20240310T080000
END:DAYLIGHT
BEGIN:STANDARD
TZOFFSETFROM:-0500
TZOFFSETTO:-0600
TZNAME:CST
DTSTART:20241103T070000
END:STANDARD
BEGIN:DAYLIGHT
TZOFFSETFROM:-0600
TZOFFSETTO:-0500
TZNAME:CDT
DTSTART:20250309T080000
END:DAYLIGHT
BEGIN:STANDARD
TZOFFSETFROM:-0500
TZOFFSETTO:-0600
TZNAME:CST
DTSTART:20251102T070000
END:STANDARD
END:VTIMEZONE
BEGIN:VEVENT
DTSTART;TZID=America/Chicago:20241022T100000
DTEND;TZID=America/Chicago:20241022T120000
DTSTAMP:20260420T012451
CREATED:20240830T122419Z
LAST-MODIFIED:20241005T200750Z
UID:6463-1729591200-1729598400@alabamamga.org
SUMMARY:Limestone County: Pumpkin Planter Workshop
DESCRIPTION:Limestone County Master Gardeners will host a hands-on workshop on October 22\, 2024 from 10am to noon at the LCMG Greenhouse\, Athens Middle School: 100 US 31\, Athens\, AL\, 35611. Let’s make a welcoming Pumpkin Planter for Fall! Led by Regional Extension Agent Lilly Oaks. \nThere is a $25 registration fee. Limited to 20 participants. Register here: \nhttps://mastergardeners-limestonecountyalabama.org/
URL:https://alabamamga.org/event/limestone-county-pumpkin-planter/
LOCATION:LCMG Greenhouse/Athens Middle School\, 100 US 31\, Athens\, 35611\, United States
CATEGORIES:Local Workshop
ATTACH;FMTTYPE=image/jpeg:https://alabamamga.org/wp-content/uploads/2024/08/2024FlyerLimestoneWorkshopOctober.jpg
END:VEVENT
END:VCALENDAR