BEGIN:VCALENDAR
VERSION:2.0
PRODID:-//Alabama Master Gardeners Association, Inc - ECPv6.15.20//NONSGML v1.0//EN
CALSCALE:GREGORIAN
METHOD:PUBLISH
X-ORIGINAL-URL:https://alabamamga.org
X-WR-CALDESC:Events for Alabama Master Gardeners Association, Inc
REFRESH-INTERVAL;VALUE=DURATION:PT1H
X-Robots-Tag:noindex
X-PUBLISHED-TTL:PT1H
BEGIN:VTIMEZONE
TZID:America/Chicago
BEGIN:DAYLIGHT
TZOFFSETFROM:-0600
TZOFFSETTO:-0500
TZNAME:CDT
DTSTART:20230312T080000
END:DAYLIGHT
BEGIN:STANDARD
TZOFFSETFROM:-0500
TZOFFSETTO:-0600
TZNAME:CST
DTSTART:20231105T070000
END:STANDARD
BEGIN:DAYLIGHT
TZOFFSETFROM:-0600
TZOFFSETTO:-0500
TZNAME:CDT
DTSTART:20240310T080000
END:DAYLIGHT
BEGIN:STANDARD
TZOFFSETFROM:-0500
TZOFFSETTO:-0600
TZNAME:CST
DTSTART:20241103T070000
END:STANDARD
BEGIN:DAYLIGHT
TZOFFSETFROM:-0600
TZOFFSETTO:-0500
TZNAME:CDT
DTSTART:20250309T080000
END:DAYLIGHT
BEGIN:STANDARD
TZOFFSETFROM:-0500
TZOFFSETTO:-0600
TZNAME:CST
DTSTART:20251102T070000
END:STANDARD
END:VTIMEZONE
BEGIN:VEVENT
DTSTART;TZID=America/Chicago:20240413T080000
DTEND;TZID=America/Chicago:20240413T130000
DTSTAMP:20260420T181528
CREATED:20240226T134734Z
LAST-MODIFIED:20240226T134734Z
UID:5987-1712995200-1713013200@alabamamga.org
SUMMARY:Cherokee County Master Gardener Spring Sale
DESCRIPTION:The Cherokee County Master Gardener Spring Sale will be held on April 13\, 2024 from 8am to 1pm at Leesburg City Park\, 1900 Lokey Street\, Leesburg\, Alabama. \nPatio and yard art\, hanging baskets\, patio pots\, flowering plants and vegetable plants will be available.
URL:https://alabamamga.org/event/cherokee-county-master-gardener-spring-sale-2/
LOCATION:Leesburg City Park\, 1900 Lokey Street\, Leesburg\, AL\, United States
CATEGORIES:plant sale
ATTACH;FMTTYPE=image/png:https://alabamamga.org/wp-content/uploads/2024/02/CherokeePlantSaleApril13.png
END:VEVENT
END:VCALENDAR