BEGIN:VCALENDAR
VERSION:2.0
PRODID:-//Alabama Master Gardeners Association, Inc - ECPv6.15.20//NONSGML v1.0//EN
CALSCALE:GREGORIAN
METHOD:PUBLISH
X-ORIGINAL-URL:https://alabamamga.org
X-WR-CALDESC:Events for Alabama Master Gardeners Association, Inc
REFRESH-INTERVAL;VALUE=DURATION:PT1H
X-Robots-Tag:noindex
X-PUBLISHED-TTL:PT1H
BEGIN:VTIMEZONE
TZID:America/Chicago
BEGIN:DAYLIGHT
TZOFFSETFROM:-0600
TZOFFSETTO:-0500
TZNAME:CDT
DTSTART:20220313T080000
END:DAYLIGHT
BEGIN:STANDARD
TZOFFSETFROM:-0500
TZOFFSETTO:-0600
TZNAME:CST
DTSTART:20221106T070000
END:STANDARD
BEGIN:DAYLIGHT
TZOFFSETFROM:-0600
TZOFFSETTO:-0500
TZNAME:CDT
DTSTART:20230312T080000
END:DAYLIGHT
BEGIN:STANDARD
TZOFFSETFROM:-0500
TZOFFSETTO:-0600
TZNAME:CST
DTSTART:20231105T070000
END:STANDARD
BEGIN:DAYLIGHT
TZOFFSETFROM:-0600
TZOFFSETTO:-0500
TZNAME:CDT
DTSTART:20240310T080000
END:DAYLIGHT
BEGIN:STANDARD
TZOFFSETFROM:-0500
TZOFFSETTO:-0600
TZNAME:CST
DTSTART:20241103T070000
END:STANDARD
END:VTIMEZONE
BEGIN:VEVENT
DTSTART;TZID=America/Chicago:20230807T093000
DTEND;TZID=America/Chicago:20230807T153000
DTSTAMP:20260421T212618
CREATED:20230630T162043Z
LAST-MODIFIED:20230630T162751Z
UID:5503-1691400600-1691422200@alabamamga.org
SUMMARY:Master Gardener College Leadership Training Webinar
DESCRIPTION:Leadership Training Flyer - MG
URL:https://alabamamga.org/event/master-gardener-college-leadership-training-webinar/
ATTACH;FMTTYPE=image/jpeg:https://alabamamga.org/wp-content/uploads/2023/06/FI_TrainingFlyer.jpg
END:VEVENT
BEGIN:VEVENT
DTSTART;TZID=America/Chicago:20230808T093000
DTEND;TZID=America/Chicago:20230808T123000
DTSTAMP:20260421T212618
CREATED:20230630T162448Z
LAST-MODIFIED:20230630T162448Z
UID:5506-1691487000-1691497800@alabamamga.org
SUMMARY:Master Gardener College Leadership Training Webinar
DESCRIPTION:Leadership Training Flyer - MG
URL:https://alabamamga.org/event/master-gardener-college-leadership-training-webinar-2/
ATTACH;FMTTYPE=image/jpeg:https://alabamamga.org/wp-content/uploads/2023/06/FI_TrainingFlyer.jpg
END:VEVENT
END:VCALENDAR