BEGIN:VCALENDAR
VERSION:2.0
PRODID:-//Alabama Master Gardeners Association, Inc - ECPv6.15.20//NONSGML v1.0//EN
CALSCALE:GREGORIAN
METHOD:PUBLISH
X-WR-CALNAME:Alabama Master Gardeners Association, Inc
X-ORIGINAL-URL:https://alabamamga.org
X-WR-CALDESC:Events for Alabama Master Gardeners Association, Inc
REFRESH-INTERVAL;VALUE=DURATION:PT1H
X-Robots-Tag:noindex
X-PUBLISHED-TTL:PT1H
BEGIN:VTIMEZONE
TZID:America/Chicago
BEGIN:DAYLIGHT
TZOFFSETFROM:-0600
TZOFFSETTO:-0500
TZNAME:CDT
DTSTART:20230312T080000
END:DAYLIGHT
BEGIN:STANDARD
TZOFFSETFROM:-0500
TZOFFSETTO:-0600
TZNAME:CST
DTSTART:20231105T070000
END:STANDARD
BEGIN:DAYLIGHT
TZOFFSETFROM:-0600
TZOFFSETTO:-0500
TZNAME:CDT
DTSTART:20240310T080000
END:DAYLIGHT
BEGIN:STANDARD
TZOFFSETFROM:-0500
TZOFFSETTO:-0600
TZNAME:CST
DTSTART:20241103T070000
END:STANDARD
BEGIN:DAYLIGHT
TZOFFSETFROM:-0600
TZOFFSETTO:-0500
TZNAME:CDT
DTSTART:20250309T080000
END:DAYLIGHT
BEGIN:STANDARD
TZOFFSETFROM:-0500
TZOFFSETTO:-0600
TZNAME:CST
DTSTART:20251102T070000
END:STANDARD
END:VTIMEZONE
BEGIN:VEVENT
DTSTART;TZID=America/Chicago:20241016T120000
DTEND;TZID=America/Chicago:20241016T130000
DTSTAMP:20260420T013054
CREATED:20240520T131318Z
LAST-MODIFIED:20240520T132157Z
UID:6249-1729080000-1729083600@alabamamga.org
SUMMARY:Blount County Master Gardeners Lunch and Learn
DESCRIPTION:Blount County Master Gardeners will host a Lunch and Learn on October 16\, 2024 from Noon to 1pm at the Blount County ACES Extension Office. Speaker Susan Hagen will present Easy Pollinator Plants for Blount County. \nWe would like to share a lunch hour and good gardening information with you. Come join us every third Wednesday of the month for a short program. Bring your lunch. We’ll bring some drinks and gardening ideas and tips.\nQuestions? Contact skhagen@centurytel.net
URL:https://alabamamga.org/event/blount-county-master-gardeners-lunch-and-learn-8/
LOCATION:ACES Extension Office: Blount\, 6700 County Hwy 1\, Cleveland\, AL\, 35049\, United States
CATEGORIES:events,Lunch and Learn
ATTACH;FMTTYPE=application/pdf:https://alabamamga.org/wp-content/uploads/2024/03/Lunch-and-Learn-29-Feb.pdf
ORGANIZER;CN="Susan Hagen":MAILTO:skhagen@centurytel.net
END:VEVENT
END:VCALENDAR