BEGIN:VCALENDAR
VERSION:2.0
PRODID:-//Alabama Master Gardeners Association, Inc - ECPv6.15.20//NONSGML v1.0//EN
CALSCALE:GREGORIAN
METHOD:PUBLISH
X-ORIGINAL-URL:https://alabamamga.org
X-WR-CALDESC:Events for Alabama Master Gardeners Association, Inc
REFRESH-INTERVAL;VALUE=DURATION:PT1H
X-Robots-Tag:noindex
X-PUBLISHED-TTL:PT1H
BEGIN:VTIMEZONE
TZID:America/Chicago
BEGIN:DAYLIGHT
TZOFFSETFROM:-0600
TZOFFSETTO:-0500
TZNAME:CDT
DTSTART:20230312T080000
END:DAYLIGHT
BEGIN:STANDARD
TZOFFSETFROM:-0500
TZOFFSETTO:-0600
TZNAME:CST
DTSTART:20231105T070000
END:STANDARD
BEGIN:DAYLIGHT
TZOFFSETFROM:-0600
TZOFFSETTO:-0500
TZNAME:CDT
DTSTART:20240310T080000
END:DAYLIGHT
BEGIN:STANDARD
TZOFFSETFROM:-0500
TZOFFSETTO:-0600
TZNAME:CST
DTSTART:20241103T070000
END:STANDARD
BEGIN:DAYLIGHT
TZOFFSETFROM:-0600
TZOFFSETTO:-0500
TZNAME:CDT
DTSTART:20250309T080000
END:DAYLIGHT
BEGIN:STANDARD
TZOFFSETFROM:-0500
TZOFFSETTO:-0600
TZNAME:CST
DTSTART:20251102T070000
END:STANDARD
END:VTIMEZONE
BEGIN:VEVENT
DTSTART;TZID=America/Chicago:20240414T130000
DTEND;TZID=America/Chicago:20240414T160000
DTSTAMP:20260421T201444
CREATED:20240306T150535Z
LAST-MODIFIED:20240306T150535Z
UID:6000-1713099600-1713110400@alabamamga.org
SUMMARY:Morgan County Master Gardeners Plant Sale 2024
DESCRIPTION:Morgan County Master Gardeners will host their Spring Plant Sale on April 13\, 2024 from 8am-4pm and April 14 from 1pm-4pm at Point Mallard Park in Decatur\, Alabama. A wide variety of native plants\, perennials\, annuals\, trees\, shrubs\, vegetables\, herbs\, succulents\, pass-along plants\, heirloom tomatoes\, and hanging baskets will be available. Cash and Checks  only.
URL:https://alabamamga.org/event/morgan-county-master-gardeners-plant-sale-2024-2/
LOCATION:Point Mallard Park Decatur\, 2901 Point Mallard Cir SE\, Decatur\, AL\, 35601\, United States
CATEGORIES:plant sale
ATTACH;FMTTYPE=image/jpeg:https://alabamamga.org/wp-content/uploads/2024/03/MorganCounty2024SpringPlantSaleFlyer.jpg
END:VEVENT
BEGIN:VEVENT
DTSTART;TZID=America/Chicago:20240419T100000
DTEND;TZID=America/Chicago:20240419T173000
DTSTAMP:20260421T201444
CREATED:20240405T145423Z
LAST-MODIFIED:20240405T145423Z
UID:6112-1713520800-1713547800@alabamamga.org
SUMMARY:Cullman County Master Gardeners Spring Plant Sale
DESCRIPTION:The Cullman County Master Gardeners will host their Spring Plant Sale on Friday\, April 19\, 2024 from 10am to 5:30pm and Saturday\, April 20\, 2024 from 10am to 1pm at the North Alabama Agriplex in Cullman\, Alabama. \nLow Prices and Healthy Plants include hydrangeas (many types)\, herbs many types)\, trees (many types)\, peppers\, wildflowers\, angel trumpets\, succulents (many types)\, tomatoes\, house plants\, lemon grass\, and MANY MORE! There will be several items commercial retailers don’t have!\nCredit cards accepted with a minimum charge of $10.00
URL:https://alabamamga.org/event/cullman-county-master-gardeners-spring-plant-sale-3/
LOCATION:North Alabama Agriplex\, 1714 Tally Ho Street\, Cullman\, AL\, 35055\, United States
CATEGORIES:plant sale
ATTACH;FMTTYPE=image/jpeg:https://alabamamga.org/wp-content/uploads/2024/04/Spring-Plant-Sale-yellow-corrected.jpg
END:VEVENT
BEGIN:VEVENT
DTSTART;TZID=America/Chicago:20240420T100000
DTEND;TZID=America/Chicago:20240420T130000
DTSTAMP:20260421T201444
CREATED:20240405T145457Z
LAST-MODIFIED:20240405T145457Z
UID:6115-1713607200-1713618000@alabamamga.org
SUMMARY:Cullman County Master Gardeners Spring Plant Sale
DESCRIPTION:The Cullman County Master Gardeners will host their Spring Plant Sale on Friday\, April 19\, 2024 from 10am to 5:30pm and Saturday\, April 20\, 2024 from 10am to 1pm at the North Alabama Agriplex in Cullman\, Alabama. \nLow Prices and Healthy Plants include hydrangeas (many types)\, herbs many types)\, trees (many types)\, peppers\, wildflowers\, angel trumpets\, succulents (many types)\, tomatoes\, house plants\, lemon grass\, and MANY MORE! There will be several items commercial retailers don’t have!\nCredit cards accepted with a minimum charge of $10.00
URL:https://alabamamga.org/event/cullman-county-master-gardeners-spring-plant-sale-4/
LOCATION:North Alabama Agriplex\, 1714 Tally Ho Street\, Cullman\, AL\, 35055\, United States
CATEGORIES:plant sale
ATTACH;FMTTYPE=image/jpeg:https://alabamamga.org/wp-content/uploads/2024/04/Spring-Plant-Sale-yellow-corrected.jpg
END:VEVENT
BEGIN:VEVENT
DTSTART;TZID=America/Chicago:20240426T080000
DTEND;TZID=America/Chicago:20240426T170000
DTSTAMP:20260421T201444
CREATED:20240405T153403Z
LAST-MODIFIED:20240405T154609Z
UID:6120-1714118400-1714150800@alabamamga.org
SUMMARY:Longleaf Botanical Gardens Spring Plant Sale
DESCRIPTION:The Longleaf Botanical Gardens will host a Spring Plant Sale on Friday\, April 26\, 2024 from 8am to 5pm and Saturday\, April 27\, 2024 from 8am to noon in Anniston\, Alabama. \nShop a wide selection of blooming beauties\, such as camellias\, azaleas\, and more\, that are sure to make your garden or landscape pop among the neighborhood. All sales fund the growth of the Longleaf Botanical Gardens. \n\n\n\n\n 
URL:https://alabamamga.org/event/longleaf-botanical-gardens-spring-plant-sale/
LOCATION:Longleaf Botanical Gardens\, 920 Museum Drive\, Anniston\, AL\, 36206\, United States
CATEGORIES:plant sale
ATTACH;FMTTYPE=application/pdf:https://alabamamga.org/wp-content/uploads/2024/04/Plant-Sale-2024-8.5-x-11-in.pdf
END:VEVENT
BEGIN:VEVENT
DTSTART;TZID=America/Chicago:20240426T080000
DTEND;TZID=America/Chicago:20240426T180000
DTSTAMP:20260421T201444
CREATED:20240328T145715Z
LAST-MODIFIED:20240328T145715Z
UID:6094-1714118400-1714154400@alabamamga.org
SUMMARY:Shoals Master Gardeners Plant Sale
DESCRIPTION:The Shoals Master Gardeners Plant Sale will be held on Friday\, April 26\, 2024 from 8am to 6pm and Saturday\, April 27\, 2024 from 8am to 1:30pm at the Farmers Market\, Florence\, Alabama. \nChoose from a wide selection of annuals\, perennials\, vegetables\,\nnatives\, grasses\, and more such as lenten roses\, cannas\, rudbeckia\,\ndaylilies\, a variety of tomatoes and herbs\, iris\, Oakleaf hydrangeas\,\n3 foot tall blueberry bushes (Tif-blue\, Climax and Premier)\, and\nBrown Turkey figs and more. \nSharpening services will be available for dull gardening implements. \nFree admission & Free parking\nCash & Checks accepted \nFunds raised benefit public gardens and\ncommunity service facilities throughout the Shoals area.
URL:https://alabamamga.org/event/shoals-master-gardeners-plant-sale/
LOCATION:Farmers Market\, 451 Fairground Road\, Florence\, AL\, 35603\, United States
CATEGORIES:plant sale
ATTACH;FMTTYPE=image/jpeg:https://alabamamga.org/wp-content/uploads/2024/03/SMG-Plant-Sale-2024-Flyer.jpeg
END:VEVENT
BEGIN:VEVENT
DTSTART;TZID=America/Chicago:20240427T080000
DTEND;TZID=America/Chicago:20240427T120000
DTSTAMP:20260421T201444
CREATED:20240405T153428Z
LAST-MODIFIED:20240405T154658Z
UID:6123-1714204800-1714219200@alabamamga.org
SUMMARY:Longleaf Botanical Gardens Spring Plant Sale
DESCRIPTION:The Longleaf Botanical Gardens will host a Spring Plant Sale on Friday\, April 26\, 2024 from 8am to 5pm and Saturday\, April 27\, 2024 from 8am to noon in Anniston\, Alabama. \nShop a wide selection of blooming beauties\, such as camellias\, azaleas\, and more\, that are sure to make your garden or landscape pop among the neighborhood. All sales fund the growth of the Longleaf Botanical Gardens. \n\n\n\n\n 
URL:https://alabamamga.org/event/longleaf-botanical-gardens-spring-plant-sale-2/
LOCATION:Longleaf Botanical Gardens\, 920 Museum Drive\, Anniston\, AL\, 36206\, United States
CATEGORIES:plant sale
ATTACH;FMTTYPE=application/pdf:https://alabamamga.org/wp-content/uploads/2024/04/Plant-Sale-2024-8.5-x-11-in.pdf
END:VEVENT
BEGIN:VEVENT
DTSTART;TZID=America/Chicago:20240427T080000
DTEND;TZID=America/Chicago:20240427T133000
DTSTAMP:20260421T201444
CREATED:20240328T145809Z
LAST-MODIFIED:20240328T145809Z
UID:6098-1714204800-1714224600@alabamamga.org
SUMMARY:Shoals Master Gardeners Plant Sale
DESCRIPTION:The Shoals Master Gardeners Plant Sale will be held on Friday\, April 26\, 2024 from 8am to 6pm and Saturday\, April 27\, 2024 from 8am to 1:30pm at the Farmers Market\, Florence\, Alabama. \nChoose from a wide selection of annuals\, perennials\, vegetables\,\nnatives\, grasses\, and more such as lenten roses\, cannas\, rudbeckia\,\ndaylilies\, a variety of tomatoes and herbs\, iris\, Oakleaf hydrangeas\,\n3 foot tall blueberry bushes (Tif-blue\, Climax and Premier)\, and\nBrown Turkey figs and more. \nSharpening services will be available for dull gardening implements. \nFree admission & Free parking\nCash & Checks accepted \nFunds raised benefit public gardens and\ncommunity service facilities throughout the Shoals area.
URL:https://alabamamga.org/event/shoals-master-gardeners-plant-sale-2/
LOCATION:Farmers Market\, 451 Fairground Road\, Florence\, AL\, 35603\, United States
CATEGORIES:plant sale
ATTACH;FMTTYPE=image/jpeg:https://alabamamga.org/wp-content/uploads/2024/03/SMG-Plant-Sale-2024-Flyer.jpeg
END:VEVENT
BEGIN:VEVENT
DTSTART;TZID=America/Chicago:20240504T080000
DTEND;TZID=America/Chicago:20240504T120000
DTSTAMP:20260421T201444
CREATED:20240207T135248Z
LAST-MODIFIED:20240207T135248Z
UID:5845-1714809600-1714824000@alabamamga.org
SUMMARY:East Central Alabama Master Gardener Plant Sale
DESCRIPTION:The East Central Alabama Master Gardener Plant Sale will be help at the Kiwanis Park\, Wedowee on May 4\, 2024 from 8am to 12pm. Annuals\, perennials\, trees\, shrubs\, herbs and more will be available along with Master Gardeners to answer your gardening questions.
URL:https://alabamamga.org/event/east-central-alabama-master-gardener-plant-sale/
LOCATION:Kiwanis Park\, 654 Main St S\, Wedowee\, AL\, 36278\, United States
CATEGORIES:plant sale
ATTACH;FMTTYPE=image/jpeg:https://alabamamga.org/wp-content/uploads/2024/02/‎plant-sale-2024.‎001.jpeg
END:VEVENT
BEGIN:VEVENT
DTSTART;TZID=America/Chicago:20240504T080000
DTEND;TZID=America/Chicago:20240504T120000
DTSTAMP:20260421T201444
CREATED:20240207T144647Z
LAST-MODIFIED:20240328T142716Z
UID:5852-1714809600-1714824000@alabamamga.org
SUMMARY:Marshall County Master Gardener Plant Sale
DESCRIPTION:The Marshall County Master Gardener Plant Sale will be held on Saturday\, May 4 2024 from 8am to noon at Civitan Pavilion #3\, Guntersville\, Alabama.
URL:https://alabamamga.org/event/marshall-county-master-gardener-plant-sale/
LOCATION:Civitan Pavilion #3\, 1130 Sunset Drive\, Guntersville\, AL\, 35976\, United States
CATEGORIES:plant sale
ATTACH;FMTTYPE=image/jpeg:https://alabamamga.org/wp-content/uploads/2024/02/MarshallCountyPlantSaleFlyer2024.jpg
END:VEVENT
BEGIN:VEVENT
DTSTART;TZID=America/Chicago:20240504T080000
DTEND;TZID=America/Chicago:20240504T120000
DTSTAMP:20260421T201444
CREATED:20240428T160627Z
LAST-MODIFIED:20240428T161156Z
UID:6163-1714809600-1714824000@alabamamga.org
SUMMARY:Calhoun County Master Gardeners Spring Plant Sale
DESCRIPTION:The Calhoun County Master Gardeners Spring Plant Sale will be held on Saturday\, May 4\, 2024 from 8am to noon at the Cane Creek Community Gardens\, Fort McClellan\, Alabama. \nShop for native perennial flowers\, vegetables\, herbs\, shrubs\, and trees just in time for Mother’s Day! Cash and Check accepted.
URL:https://alabamamga.org/event/calhoun-county-master-gardeners-spring-plant-sale/
LOCATION:Cane Creek Community Gardens\, 77 Justice Ave\, Anniston\, 36205\, United States
CATEGORIES:plant sale
ATTACH;FMTTYPE=image/jpeg:https://alabamamga.org/wp-content/uploads/2024/04/2024CalhounSpringPlantSale.jpg
END:VEVENT
BEGIN:VEVENT
DTSTART;TZID=America/Chicago:20241011T130000
DTEND;TZID=America/Chicago:20241011T170000
DTSTAMP:20260421T201444
CREATED:20241005T194918Z
LAST-MODIFIED:20241005T194918Z
UID:6514-1728651600-1728666000@alabamamga.org
SUMMARY:Cullman County MGA Fall Plant Sale
DESCRIPTION:Cullman County Master Gardeners will hold a Fall plant sale at the North Alabama Agriplex\,  1714 Tally Ho Street\, Cullman\, Alabama on Friday\, October 11\, 2024\, from 1:00 to 5:00 p.m. and Saturday\, October 12\, 2024\, from 8:00 a.m. to noon. \nPlants for sale will include persimmon\, fig\, and catalpa trees; hydrangeas\, flowering perennials\, house plants\, and more.
URL:https://alabamamga.org/event/cullman-county-mga-fall-plant-sale/
LOCATION:North Alabama Agriplex\, 1714 Tally Ho Street\, Cullman\, AL\, 35055\, United States
CATEGORIES:plant sale
ATTACH;FMTTYPE=image/jpeg:https://alabamamga.org/wp-content/uploads/2024/10/2024FlyerCullmanPlantSaleOct.jpg
END:VEVENT
BEGIN:VEVENT
DTSTART;TZID=America/Chicago:20241012T080000
DTEND;TZID=America/Chicago:20241012T120000
DTSTAMP:20260421T201444
CREATED:20241005T195004Z
LAST-MODIFIED:20241005T195004Z
UID:6517-1728720000-1728734400@alabamamga.org
SUMMARY:Cullman County MGA Fall Plant Sale
DESCRIPTION:Cullman County Master Gardeners will hold a Fall plant sale at the North Alabama Agriplex\,  1714 Tally Ho Street\, Cullman\, Alabama on Friday\, October 11\, 2024\, from 1:00 to 5:00 p.m. and Saturday\, October 12\, 2024\, from 8:00 a.m. to noon. \nPlants for sale will include persimmon\, fig\, and catalpa trees; hydrangeas\, flowering perennials\, house plants\, and more.
URL:https://alabamamga.org/event/cullman-county-mga-fall-plant-sale-2/
LOCATION:North Alabama Agriplex\, 1714 Tally Ho Street\, Cullman\, AL\, 35055\, United States
CATEGORIES:plant sale
ATTACH;FMTTYPE=image/jpeg:https://alabamamga.org/wp-content/uploads/2024/10/2024FlyerCullmanPlantSaleOct.jpg
END:VEVENT
BEGIN:VEVENT
DTSTART;TZID=America/Chicago:20241109T090000
DTEND;TZID=America/Chicago:20241109T120000
DTSTAMP:20260421T201444
CREATED:20241027T133102Z
LAST-MODIFIED:20241027T133102Z
UID:6591-1731142800-1731153600@alabamamga.org
SUMMARY:Lee County MGA Native Azalea Sale
DESCRIPTION:The LCMGA Native Azalea Sale will be held on Saturday\, November 9\, 2024 from 9 AM until Noon\, or when all plants are sold. This event will be held at the southwest corner of Glenn and S. University in Auburn. \n\nBelow are pictures of a few of the Azalea varieties that will be on sale that day. Some will be in 3-gallon pots ($30) and some in 1-gallon ($15). Other varieties will also be available. \nNo cash. Credit Cards only.
URL:https://alabamamga.org/event/2024-nov-lcmga-azalea-sale-cal/
LOCATION:AL
CATEGORIES:plant sale
ATTACH;FMTTYPE=image/png:https://alabamamga.org/wp-content/uploads/2024/10/2024BannerLeeAzaleaSaleNov.png
END:VEVENT
END:VCALENDAR