BEGIN:VCALENDAR
VERSION:2.0
PRODID:-//Alabama Master Gardeners Association, Inc - ECPv6.15.20//NONSGML v1.0//EN
CALSCALE:GREGORIAN
METHOD:PUBLISH
X-ORIGINAL-URL:https://alabamamga.org
X-WR-CALDESC:Events for Alabama Master Gardeners Association, Inc
REFRESH-INTERVAL;VALUE=DURATION:PT1H
X-Robots-Tag:noindex
X-PUBLISHED-TTL:PT1H
BEGIN:VTIMEZONE
TZID:America/Chicago
BEGIN:DAYLIGHT
TZOFFSETFROM:-0600
TZOFFSETTO:-0500
TZNAME:CDT
DTSTART:20230312T080000
END:DAYLIGHT
BEGIN:STANDARD
TZOFFSETFROM:-0500
TZOFFSETTO:-0600
TZNAME:CST
DTSTART:20231105T070000
END:STANDARD
BEGIN:DAYLIGHT
TZOFFSETFROM:-0600
TZOFFSETTO:-0500
TZNAME:CDT
DTSTART:20240310T080000
END:DAYLIGHT
BEGIN:STANDARD
TZOFFSETFROM:-0500
TZOFFSETTO:-0600
TZNAME:CST
DTSTART:20241103T070000
END:STANDARD
BEGIN:DAYLIGHT
TZOFFSETFROM:-0600
TZOFFSETTO:-0500
TZNAME:CDT
DTSTART:20250309T080000
END:DAYLIGHT
BEGIN:STANDARD
TZOFFSETFROM:-0500
TZOFFSETTO:-0600
TZNAME:CST
DTSTART:20251102T070000
END:STANDARD
END:VTIMEZONE
BEGIN:VEVENT
DTSTART;TZID=America/Chicago:20240406T080000
DTEND;TZID=America/Chicago:20240406T130000
DTSTAMP:20260421T015547
CREATED:20240226T133447Z
LAST-MODIFIED:20240226T133447Z
UID:5982-1712390400-1712408400@alabamamga.org
SUMMARY:Cherokee County Master Gardener Spring Sale
DESCRIPTION:The Cherokee County Master Gardener Spring Sale will be held on April 6\,2024 from 8am to 1pm at Centre City Park\, 635 Armory Drive\, Centre Alabama. \nPatio and yard art\, hanging baskets\, patio pots\, flowering plants and vegetable plants will be available.
URL:https://alabamamga.org/event/cherokee-county-master-gardener-spring-sale/
LOCATION:Centre City Park\, Centre City Park\, Centre\, AL\, 35960\, United States
CATEGORIES:plant sale
ATTACH;FMTTYPE=image/png:https://alabamamga.org/wp-content/uploads/2024/02/CherokeePlantSaleBanner.png
END:VEVENT
BEGIN:VEVENT
DTSTART;TZID=America/Chicago:20240406T090000
DTEND;TZID=America/Chicago:20240406T170000
DTSTAMP:20260421T015547
CREATED:20240219T114757Z
LAST-MODIFIED:20240219T114757Z
UID:5900-1712394000-1712422800@alabamamga.org
SUMMARY:Wiregrass Master Gardeners Spring Plant Sale
DESCRIPTION:The Wiregrass Master Gardeners Spring Plant Sale will be held at the Dothan Botanical Gardens on April 5-6\, 2024 from 9-5. Seeds\, cuttings\, bulbs and healthy plants grown by the Wiregrass Master Gardeners will be available. For more information call 334-794-4108.
URL:https://alabamamga.org/event/wiregrass-master-gardeners-spring-plant-sale-2/
LOCATION:Dothan Botanical Gardens\, 5130 Headland Avenue\, Dothan\, Alabama\, 36303
CATEGORIES:plant sale
ATTACH;FMTTYPE=application/pdf:https://alabamamga.org/wp-content/uploads/2024/02/2024-Spring-Plant-Sale-Flyer.pdf
END:VEVENT
END:VCALENDAR